BEGIN:VCALENDAR
VERSION:2.0
PRODID:spatie/icalendar-generator
NAME:WEBINAR CYBERSAT 
X-WR-CALNAME:WEBINAR CYBERSAT 
BEGIN:VEVENT
UID:event_23110@vda.pt
DTSTAMP:20260422T140725Z
SUMMARY:WEBINAR CYBERSAT 
DESCRIPTION:A Agência Espacial Europeia (ESA)\, a Thales Alenia Space\, a 
 Vieira de Almeida (VdA)\, a Tekever Space e a Thales têm muito gosto em a
 nunciar o   Webinar   que decorrerá   online  \, dedicado ao tema:    Cyb
 er Security Regulations and Satellite Communication Systems: An Analysis o
 f Applicability and Impact – Report on ESA ARTES CYBERSAT Study   .  \n\
 nO  Webinar  proporcionará uma visão geral sobre os resultados do estudo
 \, levado a cabo pela Thales Alenia Space\, a Vieira de Almeida\, a Tekeve
 r Space e a Thales\, sobre cibersegurança em redes satcom. O referido est
 udo foi desenvovido no âmbito do Programa ARTES Future Preparation da Ag
 ência Espacial Europeia. \n\nA cibersegurança tem vindo a assumir partic
 ular importância e as recentes alterações regulatórias têm impacto di
 reto no setor espacial. O  Webinar  abordará não só a vertente legal e 
 regulatória europeia sobre as redes satcom mas também o impacto potencia
 l da regulamentação de cibersegurança nas redes e serviços de comunica
 ções por satélite. \n\nO evento será emitido  online  através do ZOOM
 .\n\nOradores: Frank Zeppenfeldt\, Paolo Conforto\, Helena Correia Mendon
 ça\, Aleksandra Nadziejko
URL:https://www.vda.pt/pt/media/eventos/webinar-cybersat/23110/
DTSTART:20210305T140000
DTEND:20210305T150000
BEGIN:VALARM
ACTION:DISPLAY
TRIGGER:-PT60M
END:VALARM
END:VEVENT
END:VCALENDAR