BEGIN:VCALENDAR
VERSION:2.0
PRODID:spatie/icalendar-generator
NAME:Webinar Aviação na África Lusófona Pós-Covid 19
X-WR-CALNAME:Webinar Aviação na África Lusófona Pós-Covid 19
BEGIN:VEVENT
UID:event_23174@vda.pt
DTSTAMP:20260419T203621Z
SUMMARY:Webinar Aviação na África Lusófona Pós-Covid 19
DESCRIPTION:A Vieira de Almeida tem muito gosto em anunciar o  Webinar   Av
 iação na África Lusófona no Pós-Covid 19 \, organizado em parceria co
 m Rui Castro e Quadros (Docente no ISEC Lisboa)\, que terá lugar  online 
  no próximo dia 12 de março\, entre as 15h00 e as 16h30 WET. O evento co
 nta com o apoio da VdA Legal Partners\, designadamente da ASP Advogados\, 
 da GDA Advogados e da VNA Advogados. \n\nA Covid-19 tem provocado consequ
 ências sem precedentes no setor da aviação. As restrições ao tráfego
  aéreo e as medidas sanitárias impostas pelos Estados afetaram particula
 rmente as companhias aéreas. O ritmo da retoma estará dependente de um v
 asto conjunto de variáveis que incluem\, não só o contexto específico 
 de cada companhia aérea e os potenciais apoios do Estado\, mas também a 
 recuperação da procura por parte dos passageiros.  \n\nNeste contexto\, 
 o  Webinar  proporcionará um debate sobre o forte impacto da pandemia na 
 indústria da aviação\, refletindo não só nos danos provocados e nas m
 edidas implementadas para superar os desafios\, mas também\, e mais concr
 etamente\, na eventual redefinição do mercado da aviação na África Lu
 sófona e na preparação dos  players  do sector para a ansiada retoma. \
 n\nO painel contará com representantes das principais companhias aéreas 
 do mercado da África Lusófona: Cabo Verde Airlines\; LAM – Linhas Aér
 eas de Moçambique\; TAAG Linhas Aéreas de Angola e a STP Airways Transpo
 rtes Aéreos de São Tomé e Príncipe. \n\nO evento decorrerá em língua
  portuguesa e será emitido  online  através de TEAMS MEETING.\n\nOradore
 s: Antolívio Martins\, Eugénio Fernandes\, João Pó Jorge\, Rui Carreir
 a\, Marília Frias\, Rui Castro e Quadros
URL:https://www.vda.pt/pt/media/eventos/webinar-aviacao-na-africa-lusofona-
 pos-covid-19/23174/
DTSTART:20210312T150000
DTEND:20210312T163000
BEGIN:VALARM
ACTION:DISPLAY
TRIGGER:-PT60M
END:VALARM
END:VEVENT
END:VCALENDAR