BEGIN:VCALENDAR
VERSION:2.0
PRODID:spatie/icalendar-generator
NAME:OE 2024: Fiscalidade num contexto desafiante
X-WR-CALNAME:OE 2024: Fiscalidade num contexto desafiante
BEGIN:VEVENT
UID:event_26205@vda.pt
DTSTAMP:20260420T022005Z
SUMMARY:OE 2024: Fiscalidade num contexto desafiante
DESCRIPTION:A Vieira de Almeida\, a APGEI e a Porto Business School têm mu
 ito gosto em convidá-lo(a) para a sessão  “OE 2024: Fiscalidade num co
 ntexto desafiante” \, que terá lugar no dia  7 de novembro \, entre as 
  9h00 e as 12h00 \, na  Sala EDP \, na Porto Business School. \n\nNesta se
 ssão os especialistas irão partilhar a sua análise crítica sobre as pr
 incipais medidas fiscais incluídas na Proposta de Lei do Orçamento do Es
 tado para 2024\, num contexto financeiro\, económico e social particularm
 ente desafiante. \n\nFique a conhecer as principais medidas e impactos fis
 cais nas famílias e nas empresas.\n\nOradores: João Velez de Lima\, Luí
 s Garrido Marques\, Miguel C. Reis\, Miguel Teles\, Miguel Gonzaléz Amado
 \, Salomé Corte-Real\, Isabel Miranda Alves\, Vítor Loureiro e Silva
URL:https://www.vda.pt/pt/media/eventos/oe-2024-fiscalidade-num-contexto-de
 safiante/26205/
DTSTART:20231107T090000
DTEND:20231107T120000
BEGIN:VALARM
ACTION:DISPLAY
TRIGGER:-PT60M
END:VALARM
END:VEVENT
END:VCALENDAR