BEGIN:VCALENDAR
VERSION:2.0
PRODID:spatie/icalendar-generator
NAME:O Sistema de Compras Públicas em Angola - Que Futuro?
X-WR-CALNAME:O Sistema de Compras Públicas em Angola - Que Futuro?
BEGIN:VEVENT
UID:event_23339@vda.pt
DTSTAMP:20260424T080949Z
SUMMARY:O Sistema de Compras Públicas em Angola - Que Futuro?
DESCRIPTION:A Vieira de Almeida e a ASP Advogados têm muito gosto em anunc
 iar o  Webinar  O Sistema de Compras Públicas em Angola - Que Futuro?\, q
 ue decorrerá  online  e que proporcionará uma reflexão e debate sobre o
 s principais temas nesta matéria\, a saber:  \n\n  \n\nPrincípios gerais
  e motivações fundamentais subjacentes à Nova LCP \n\nÂmbito de aplica
 ção \n\nDigitalização e Contratação Pública Electrónica \n\nFase d
 e formação dos Contratos Públicos\, novos procedimentos\, critérios de
  escolha\, contratação simplificada e acordos-quadro \n\nImpedimentos \n
 \nAnálise e avaliação de propostas \n\nAdjudicação\, documentos de ha
 bilitação\, caução e sequência procedimental \n\nRegime Sancionatóri
 o \n\nArbitragem nos contratos de empreitada\n\nOradores: Sónia Guilherme
 \, António Pires de Andrade\, António Penelas\, Catarina Pinto Correia\,
  Rodrigo Esteves de Oliveira
URL:https://www.vda.pt/pt/media/eventos/o-sistema-de-compras-publicas-em-an
 gola-que-futuro/23339/
DTSTART:20210415T100000
DTEND:20210415T113000
BEGIN:VALARM
ACTION:DISPLAY
TRIGGER:-PT60M
END:VALARM
END:VEVENT
END:VCALENDAR