BEGIN:VCALENDAR
VERSION:2.0
PRODID:spatie/icalendar-generator
NAME:HR BREAKFAST TALKS
X-WR-CALNAME:HR BREAKFAST TALKS
BEGIN:VEVENT
UID:event_28134@vda.pt
DTSTAMP:20260420T015221Z
SUMMARY:HR BREAKFAST TALKS
DESCRIPTION:No próximo dia 25 de novembro\, entre as 8h30 e as 11h10\, a V
 dA promove um pequeno-almoço executivo para abordar alguns dos aspetos ma
 is relevantes do Anteprojeto da Refoma Laboral.   O XXV Governo Constituci
 onal aprovou\, a 24 de julho de 2025\, o Anteprojeto de Lei da Reforma da 
 Legislação Laboral\, que propõe uma revisão abrangente do quadro labor
 al português\, incluindo o Código do Trabalho e diversos diplomas conexo
 s\, tendo por objetivo\, conforme assumido na sua exposição de motivos\,
  adaptar o Direito do Trabalho à Economia 4.0\, dinamizar a contratação
  coletiva\, combater a precariedade e promover uma conciliação equilibra
 da entre vida pessoal e profissional.   \n\nNum contexto de debate públic
 o intenso\, em grande medida marcado por leituras excessivamente ideológi
 cas\, esta conversa pretende proporcionar uma análise esclarecedora das a
 lterações mais relevantes propostas\, bem como dos principais desafios e
  oportunidades que poderão delas decorrer para empregadores e trabalhador
 es.  \n\nA conversa contará com a participação do Professor Doutor Pedr
 o Madeira de Brito\, coordenador do grupo de trabalho que apoia o Governo 
 na avaliação da legislação laboral\, e do Professor Doutor Guilherme D
 ray\, ambos da Faculdade de Direito da Universidade de Lisboa\, e será mo
 derada por  Américo Oliveira Fragoso \, Sócio Responsável da Área de P
 rática de Laboral da Vieira de Almeida.    \n\nLeia aqui a entrevista com
 pleta de Américo de Oliveira Fragoso\, Sócio Responsável da Área de Pr
 ática de Laboral da Vieira de Almeida\, ao Jornal Económico sobre o Ante
 projeto da Reforma Laboral.\n\nOradores: Américo Oliveira Fragoso\, Pedro
  Madeira de Brito\, Guilherme Dray
URL:https://www.vda.pt/pt/media/eventos/hr-breakfast-talks/28134/
DTSTART:20251125T083000
DTEND:20251125T111000
BEGIN:VALARM
ACTION:DISPLAY
TRIGGER:-PT60M
END:VALARM
END:VEVENT
END:VCALENDAR