BEGIN:VCALENDAR
VERSION:2.0
PRODID:spatie/icalendar-generator
NAME:Fundos SIFIDE: Problemas atuais e Soluções futuras
X-WR-CALNAME:Fundos SIFIDE: Problemas atuais e Soluções futuras
BEGIN:VEVENT
UID:event_26720@vda.pt
DTSTAMP:20260419T162827Z
SUMMARY:Fundos SIFIDE: Problemas atuais e Soluções futuras
DESCRIPTION:A VdA tem muito gosto em convidá-lo(a) para a conferência  «
 Fundos SIFIDE: Problemas atuais e Soluções futuras» \, que decorrerá n
 o dia  20 de junho \, entre as  8h45  e as  13h00 \, no  Salão Nobre \, n
 o  Hotel Ritz  - Rua Rodrigo da Fonseca 88\, 1099-039 Lisboa. \n\nO sucess
 o dos Fundos SIFIDE é inegável\, permitindo angariar milhares de milhõe
 s de euros junto de empresas investidoras\, e está já a transformar deci
 sivamente o tecido empresarial português através do aumento do investime
 nto produtivo em I&D. Mas nem tudo são rosas. Fruto de sucessivas altera
 ções legislativas\, as incertezas fiscais e legais abundam\, quer para o
 s investidores\, quer também para as start-ups e empresas com projetos de
  I&D\, passando pelas entidades gestoras destes Fundos. Esta Conferência 
 pretende reunir todos os interessados para debater o presente e o futuro. 
 \n\n  \n\nEsta conferência é dirigida a empresas investidoras em Fundos 
 SIFIDE\, start-ups e empresas com projetos de I&D\, sociedades gestoras do
 s fundos\, incubadoras de inovação\, economistas\, advogados e contabili
 stas.
URL:https://www.vda.pt/pt/media/eventos/fundos-sifide-problemas-atuais-e-so
 lucoes-futuras/26720/
DTSTART:20240620T084500
DTEND:20240620T130000
BEGIN:VALARM
ACTION:DISPLAY
TRIGGER:-PT60M
END:VALARM
END:VEVENT
END:VCALENDAR