BEGIN:VCALENDAR
VERSION:2.0
PRODID:spatie/icalendar-generator
NAME:Digital Union - “European Media Freedom Act”
X-WR-CALNAME:Digital Union - “European Media Freedom Act”
BEGIN:VEVENT
UID:event_26270@vda.pt
DTSTAMP:20260420T005111Z
SUMMARY:Digital Union - “European Media Freedom Act”
DESCRIPTION:A VdA organiza o Webinar sobre o tema “European Media Freedom
  Act”\, em parceria com a APDC – Associação Portuguesa para o Desenv
 olvimento das Comunicações (APDC)\, em formato híbrido\, que se realiza
  dia 13 de dezembro\, entre as 09h30 e as 11h00\, sendo o oitavo evento re
 moto no âmbito da parceria designada “Digital Union” \n\nNeste Evento
  será analisada a proposta de regulamento\, apresentada pela CE\, sobre a
  liberdade dos  media  no espaço europeu. O  European Media Freedom Act  
 tem como meta proteger a independência editorial e o conteúdo  online  d
 as empresas de comunicação social\, evitar o uso de  spyware  nos  media
  \, financiar serviços de comunicação independentes\, promover testes d
 e pluralismo e customizar a oferta. \n\nAinda sem data prevista de aprova
 ção\, as novas regras já passaram pelo crivo do Conselho e do Parlament
 o Europeu e vão impactar de forma transversal os  media  em todos os esta
 dos-membros\, incluindo as grandes plataformas  online . Estas passarão a
  ter mais obrigações\, nomeadamente na moderação de conteúdos.    \n\
 n// Sobre a Digital Union: \n\nIniciativa que resulta de uma parceria entr
 e a VdA e a APDC. \"Union\"\, porque visa unir o  know-how  do  digital bu
 siness  detido pela APDC a toda a complexidade jurídica dominada pela VdA
  e\, também\, de temas que se unem num só ciclo para dar a conhecer mais
  sobre as políticas europeias que incidem sobre o Digital. A designação
  de \"union\" apela ainda à união empresarial entre empresas que\, apesa
 r de concorrentes\, estão unidas para fazer parte de uma Europa líder do
  Digital\, sendo esse um dos propósitos da VdA e da APDC. \n\n  \n\nSiga-
 nos na nossa Showcase no  LinkedIn .
URL:https://www.vda.pt/pt/media/eventos/digital-union-european-media-freedo
 m-act/26270/
DTSTART:20231213T093000
DTEND:20231213T110000
BEGIN:VALARM
ACTION:DISPLAY
TRIGGER:-PT60M
END:VALARM
END:VEVENT
END:VCALENDAR