BEGIN:VCALENDAR
VERSION:2.0
PRODID:spatie/icalendar-generator
NAME:Conferência Internacional de Direito e Política da Concorrência 202
 4
X-WR-CALNAME:Conferência Internacional de Direito e Política da Concorrê
 ncia 2024
BEGIN:VEVENT
UID:event_26756@vda.pt
DTSTAMP:20260419T145957Z
SUMMARY:Conferência Internacional de Direito e Política da Concorrência 
 2024
DESCRIPTION:A Vieira de Almeida\, o ISEG – Instituto Superior de Economia
  e Gestão e o Observatório Português de Compliance e Regulatório (OPCR
 ) têm muito gosto em convidá-lo(a) para a  Conferência Internacional de
  Direito e Política da Concorrência   2024  que terá lugar no dia  11 d
 e julho \, entre as  9h30 e as 17h00 \, no  Auditório António de Magalh
 ães Cardoso \, na   VdA\, Rua Dom Luís I\, 28\, em Lisboa. Será servido
  almoço a todos os participantes\, pelo que solicitamos a confirmação n
 o  link  de inscrição.  \n\nEsta Conferência abordará os mais premente
 s temas do direito\, economia e política da concorrência da atualidade\,
  incluindo as principais questões jurídicas que se colocam nos tribunais
  europeus e nacionais\, o controlo de concentrações e a abordagem econó
 mica no direito da concorrência. \n\nContará com um painel único compos
 to por oradores nacionais e internacionais de renome do Tribunal de Justi
 ça da União Europeia\, Tribunal da Concorrência\, Regulação e Supervi
 são\, Comissão Europeia\, OCDE\, Autoridade da Concorrência\, meio acad
 émico nacional e internacional\, consultoras económicas e escritórios d
 e advogados. \n\nA  Conferência Internacional de Direito e Política da C
 oncorrência   2024 \, promovida pela VdA\, ISEG e OPCR\, é o maior e mai
 s destacado evento dedicado a matérias de direito e política da concorr
 ência realizado anualmente no mercado nacional. \n\nFicamos disponíveis 
 para qualquer questão que surja através do e-mail:  arm@vda.pt
URL:https://www.vda.pt/pt/media/eventos/conferencia-internacional-de-direit
 o-e-politica-da-concorrencia-2024/26756/
DTSTART:20240711T093000
DTEND:20240711T170000
BEGIN:VALARM
ACTION:DISPLAY
TRIGGER:-PT60M
END:VALARM
END:VEVENT
END:VCALENDAR