BEGIN:VCALENDAR
VERSION:2.0
PRODID:spatie/icalendar-generator
NAME:Concorrência: Desafios e Tendências 2023
X-WR-CALNAME:Concorrência: Desafios e Tendências 2023
BEGIN:VEVENT
UID:event_25915@vda.pt
DTSTAMP:20260420T070422Z
SUMMARY:Concorrência: Desafios e Tendências 2023
DESCRIPTION:A Vieira de Almeida\, o ISEG Executive Education e o Observató
 rio Português de Compliance e Regulatório têm muito gosto em convidá-l
 o(a) para a Conferência  Concorrência: desafios e tendências 2023 \, qu
 e terá lugar no dia  5 de julho \, entre as  9h30 e as 17h30 \, no  Audit
 ório 5  do ISEG (Rua do Quelhas 6\, Lisboa). Será servido almoço a todo
 s os participantes\, pelo que agradecemos confirmação no  link  de inscr
 ição.  \n\nEm debate estarão temas como as atuais tendências de  enfor
 cement  a nível europeu e nacional\, questões de concorrência em mercad
 os laborais e em mercados digitais\, cooperação horizontal\, restriçõe
 s verticais\, programas de  compliance \, controlo de concentrações e os
  atuais desafios que se colocam no contencioso da concorrência. \n\nA Con
 ferência contará com painéis de grande qualidade que incluem a particip
 ação de membros da Comissão Europeia\, da OCDE\, da AdC\, de Universida
 des portuguesas e estrangeiras\, de magistrados\, de consultoras económic
 a e de escritórios de Advogados.
URL:https://www.vda.pt/pt/media/eventos/concorrencia-desafios-e-tendencias-
 2023/25915/
DTSTART:20230705T093000
DTEND:20230705T173000
BEGIN:VALARM
ACTION:DISPLAY
TRIGGER:-PT60M
END:VALARM
END:VEVENT
END:VCALENDAR