BEGIN:VCALENDAR
VERSION:2.0
PRODID:spatie/icalendar-generator
NAME:Arbitragens Especializadas: Empreitadas e Projetos do PRR
X-WR-CALNAME:Arbitragens Especializadas: Empreitadas e Projetos do PRR
BEGIN:VEVENT
UID:event_27676@vda.pt
DTSTAMP:20260421T105253Z
SUMMARY:Arbitragens Especializadas: Empreitadas e Projetos do PRR
DESCRIPTION:A VdA\, a Associação Concórdia e o Observatório das Autarqu
 ias Locais organizam o evento  “Arbitragens Especializadas: Empreitadas 
 e Projetos do PRR” \, que terá lugar a  5 de Junho \, entre as  09h30  
 e as  13h00 \, no Auditório António de Magalhães Cardoso\, no escritór
 io da VdA\, em Lisboa\, com transmissão online.  \n\nA “Guerra Comercia
 l” está a provocar um conjunto muito assinalável de preocupações e d
 esafios na gestão dos projetos de obras públicas e particulares\, razão
  pela qual o Centro Concórdia e o OAL juntam um conjunto de especialistas
  para abordarem esta temática.        O assunto assumiu importância acre
 scida após a publicação da Lei n.º 43/2024\, de 2 de dezembro\, que al
 terou o diploma que aprovou medidas especiais de contratação pública e 
 que prevê que\, independentemente do que se encontra previsto contratualm
 ente\, podem ser sujeitos a arbitragem os contratos de empreitada de obra 
 pública ou de fornecimento de bens ou serviços públicos que sejam finan
 ciados ou cofinanciados por fundos europeus\, em que se suscitem litígios
  que pela sua relevância possam colocar em risco o cumprimento dos prazos
  contratuais ou a perda de fundos.\n\nOradores: António de Magalhães Car
 doso\, Paulo Pinheiro\, Ana Luísa Guimarães\, Bartolomeu Noronha\, Gonç
 alo Guerra Tavares\, Hugo Fonseca\, Inês Serra\, Ricardo Guimarães
URL:https://www.vda.pt/pt/media/eventos/arbitragens-especializadas-empreita
 das-e-projetos-do-prr/27676/
DTSTART:20250605T091500
DTEND:20250605T130000
BEGIN:VALARM
ACTION:DISPLAY
TRIGGER:-PT60M
END:VALARM
END:VEVENT
END:VCALENDAR