BEGIN:VCALENDAR
VERSION:2.0
PRODID:spatie/icalendar-generator
NAME:WEBINAIRE CYBERSAT
X-WR-CALNAME:WEBINAIRE CYBERSAT
BEGIN:VEVENT
UID:event_23110@vda.pt
DTSTAMP:20260424T095746Z
SUMMARY:WEBINAIRE CYBERSAT
DESCRIPTION:L'Agence spatiale européenne (ESA)\, Thales Alenia Space\, Vie
 ira de Almeida (VdA)\, Tekever Space et Thales ont le plaisir d'annoncer l
 a tenue d'un webinaire en ligne\, consacré au thème :   Cyber Security R
 egulations and Satellite Communication Systems : An Analysis of Applicabil
 ity and Impact - Report on ESA ARTES CYBERSAT Study.   \n\nLe webinaire do
 nnera un aperçu des résultats de l'étude consacrée à la cybersécurit
 é dans les réseaux de communications par satellite\, menée par Thales A
 lenia Space\, Vieira de Almeida\, Tekever Space et développée dans le ca
 dre du programme ARTES Future Preparation de l'Agence spatiale européenne
 . \n\nLa cybersécurité gagne de plus en plus d’importance et les réce
 nts changements réglementaires ont un impact direct sur le secteur spatia
 l. \n\nLe webinaire abordera non seulement l'aspect juridique et réglemen
 taire européen des réseaux de communications par satellite\, mais aussi 
 l'impact potentiel de la réglementation en matière de cybersécurité su
 r les réseaux et services de communications par satellite. \n\nL'événem
 ent sera diffusé en ligne via ZOOM.\n\nHaut-parleurs: Frank Zeppenfeldt\,
  Paolo Conforto\, Helena Correia Mendonça\, Aleksandra Nadziejko
URL:https://www.vda.pt/fr/medias/evenements/webinaire-cybersat/23110/
DTSTART:20210305T140000
DTEND:20210305T150000
BEGIN:VALARM
ACTION:DISPLAY
TRIGGER:-PT60M
END:VALARM
END:VEVENT
END:VCALENDAR