BEGIN:VCALENDAR
VERSION:2.0
PRODID:spatie/icalendar-generator
NAME:Intelligence artificielle 
X-WR-CALNAME:Intelligence artificielle 
BEGIN:VEVENT
UID:event_25472@vda.pt
DTSTAMP:20260420T143659Z
SUMMARY:Intelligence artificielle 
DESCRIPTION:\" À quoi ressemblera l'avenir de la réglementation en matiè
 re d'intelligence artificielle (IA) dans l'Union européenne ? \". Comment
  développer et utiliser des systèmes d'IA responsables ? Votre système 
 d'IA est-il conforme au cadre juridique européen actuel et futur ? Saviez
 -vous qu'en septembre 2022\, la Commission européenne a publié deux prop
 ositions de directives qui ont un impact direct sur la responsabilité en 
 matière d'IA ? Supposons qu'un système d'IA cause un préjudice à un co
 nsommateur : qui est responsable : le producteur ou l'utilisateur professi
 onnel ?  \n\nVieira de Almeida (VdA) et l'APDC - Association portugaise po
 ur le développement des communications (APDC) organisent le webinaire con
 sacré au thème \" Intelligence artificielle \"\, sixième événement à
  distance dans le cadre du partenariat \"Digital Union\". \n\nBruxelles af
 firme que la façon dont l'IA est abordée définira le monde dans lequel 
 nous vivrons à l'avenir. Ainsi\, pour aider à construire une Europe rés
 iliente pour la Décennie numérique\, les personnes et les entreprises do
 ivent pouvoir profiter des avantages de l'IA en toute sécurité. La strat
 égie européenne en matière d'IA vise donc à faire de l'Union européen
 ne un centre à l’échelle mondiale dans ce domaine\, en veillant à ce 
 que l'IA soit centrée sur l'homme et digne de confiance. \n\nLe sujet de 
 l'IA est particulièrement d'actualité après que la Commission européen
 ne ait présenté en septembre 2022 deux propositions visant à adapter le
 s règles en matière de responsabilité à l'ère numérique\, à l'écon
 omie circulaire et à l'impact des chaînes de valeur mondiales\, en garda
 nt à l'esprit les objectifs énoncés dans le Livre blanc sur l'IA et la 
  proposition de législation sur l'IA . Il s'agit de la  proposition de di
 rective sur la responsabilité en matière d’IA  et de la  proposition d
 e révision de la directive relative à  la responsabilité du fait des pr
 oduits défectueux . \n\nL'objectif de ce webinaire est de présenter l'av
 enir de la réglementation en matière d'IA dans l'Union européenne et d'
 analyser la manière de développer et d'utiliser des systèmes d'IA respo
 nsables qui soient conformes au cadre juridique actuel et futur de l'UE. \
 n\nLe webinaire aura lieu en ligne et en langue portugaise. \n\n// À prop
 os de Digital Union : \n\nInitiative qui est le fruit d'un partenariat ent
 re VdA et l'APDC. \"Union\"\, parce qu'il s'agit d'unir le savoir-faire en
  matière de  digital business  détenu par l'APDC à toute la complexité
  juridique dominée par VdA et\, également\, des thèmes qui se rejoignen
 t en un seul cycle pour faire connaître davantage les politiques europée
 nnes qui concernent le numérique. La désignation \"union\" fait aussi r
 éférence à l'union commerciale entre des entreprises qui\, bien que con
 currentes\, sont unies pour faire partie d'une Europe leader du numérique
 \, ce qui est l'un des objectifs de VdA et de l'APDC. \n\nSuivez-nous sur 
 notre page vitrine sur  LinkedIn .\n\nHaut-parleurs: Fernando Resina da Si
 lva\, Iakovina Kindylidi\, Tiago Bessa\, Sandra Fazenda Almeida\, Rui Mont
 eiro Lopes\, Daniele Quercia \, Paulo Dimas 
URL:https://www.vda.pt/fr/medias/evenements/intelligence-artificielle/25472
 /
DTSTART:20230118T093000
DTEND:20230118T110000
BEGIN:VALARM
ACTION:DISPLAY
TRIGGER:-PT60M
END:VALARM
END:VEVENT
END:VCALENDAR