BEGIN:VCALENDAR
VERSION:2.0
PRODID:spatie/icalendar-generator
NAME:Conférence internationale sur le droit et la politique de la concurre
 nce 2025
X-WR-CALNAME:Conférence internationale sur le droit et la politique de la 
 concurrence 2025
BEGIN:VEVENT
UID:event_27769@vda.pt
DTSTAMP:20260422T053026Z
SUMMARY:Conférence internationale sur le droit et la politique de la concu
 rrence 2025
DESCRIPTION:VdA\, l'ISEG - Lisbon School of Economics & Management et l'Obs
 ervatoire portugais de la conformité et de la réglementation (OPCR) orga
 nisent la  Conférence sur le droit et la politique de la concurrence 2025
  \, qui se tiendra le  15 juillet \, de  9h30  à  17h00 \, à l'ISEG. \n\
 nCette conférence abordera les thèmes les plus urgents du droit\, de l'
 économie et de la politique de la concurrence aujourd'hui\, y compris les
  principales questions juridiques et économiques qui se posent devant les
  tribunaux européens et nationaux\, le contrôle des concentrations et l'
 applicationprivée du droit de la concurrence. \n\nElle réunira des panel
 s composés d'intervenants nationaux et internationaux de renom issus de l
 'OCDE\, de la Commission européenne\, de la  Competition and Markets Auth
 ority \, de l'Autorité portugaise de la concurrence\, du milieu universit
 aire\, de cabinets de conseil économique et de cabinets d'avocats. \n\nLa
  Conférence sur le droit et la politique de la concurrence 2025 est le pl
 us grand et le plus important événement consacré aux questions de droit
  et de politique de la concurrence\, organisé chaque année sur le march
 é national.\n\nHaut-parleurs: Frederico Gonçalves Pereira\, Ricardo Bord
 alo Junqueiro\, Nuno Ruiz\, Joana Bernardo\, Cláudia Coutinho da Costa \,
  Ruben Maximiano\, Ricardo Oliveira\, Pedro Caro de Sousa\, Nuno Cunha Rod
 rigues\, Miguel Sousa Ferro\, Mariana Gomes Machado\, Maria João Duarte\,
  Luis Nascimento Ferreira\, Kai-Uwe Kühn\, João Pateira Ferreira\, João
  Francisco Barreiros\, Enrique Gonzalez Diaz\, Cristina Camacho\, Carla Fa
 rinhas\, Bernardo Sarmento\, Ana Nogueira
URL:https://www.vda.pt/fr/medias/evenements/conference-internationale-sur-l
 e-droit-et-la-politique-de-la-concurrence-2025/27769/
DTSTART:20250715T093000
DTEND:20250715T170000
BEGIN:VALARM
ACTION:DISPLAY
TRIGGER:-PT60M
END:VALARM
END:VEVENT
END:VCALENDAR