BEGIN:VCALENDAR
VERSION:2.0
PRODID:spatie/icalendar-generator
NAME:2024 International Conference on Competition Law and Policy
X-WR-CALNAME:2024 International Conference on Competition Law and Policy
BEGIN:VEVENT
UID:event_26756@vda.pt
DTSTAMP:20260419T150654Z
SUMMARY:2024 International Conference on Competition Law and Policy
DESCRIPTION:Vieira de Almeida\, ISEG – Instituto Superior de Economia e G
 estão and the Portuguese Compliance and Regulatory Observatory (OPCR) are
  pleased to invite you to the  2024 International Conference on Competitio
 n Law and Policy \, to be held on  11 July \, from  9:30 a.m.  to  5:00 p.
 m. \, in the  António de Magalhães Cardoso Auditorium  at VdA\, Rua Dom 
 Luís I\, 28\, Lisbon. Lunch will be served to all participants\, so we ki
 ndly request your confirmation via the registration link. \n\nThis Confere
 nce will discuss the most pressing current issues in competition law\, eco
 nomics\, and policy\, including the main legal issues dealt with by both n
 ational and European courts\, merger control\, and the economic approach i
 n competition law. \n\nThe panel is composed of renowned international and
  Portuguese speakers from the Court of Justice of the European Union\, the
  Competition\, Regulatory and Supervisory Court\, the European Commission\
 , the OECD\, the Portuguese Competition Authority\, the national and inter
 national academic world\, economic consultancies\, and law firms. \n\nThe 
  2024 International Conference on Competition Law and Policy \, organised 
 by VdA\, ISEG and OPCR\, is the largest and most important annual event in
  Portugal devoted to competition law and policy. \n\nFor any questions or 
 further information\, please email us at:  arm@vda.pt
URL:https://www.vda.pt/fr/medias/evenements/2024-international-conference-o
 n-competition-law-and-policy/26756/
DTSTART:20240711T093000
DTEND:20240711T170000
BEGIN:VALARM
ACTION:DISPLAY
TRIGGER:-PT60M
END:VALARM
END:VEVENT
END:VCALENDAR