BEGIN:VCALENDAR
VERSION:2.0
PRODID:spatie/icalendar-generator
NAME:Webinar on Aviation in Lusophone Africa in the Post-Covid 19
X-WR-CALNAME:Webinar on Aviation in Lusophone Africa in the Post-Covid 19
BEGIN:VEVENT
UID:event_23174@vda.pt
DTSTAMP:20260421T102746Z
SUMMARY:Webinar on Aviation in Lusophone Africa in the Post-Covid 19
DESCRIPTION:Vieira de Almeida is pleased to announce the Webinar on Aviatio
 n in Lusophone Africa in the Post-Covid 19\, organized in partnership with
  Rui Castro e Quadros (Professor at ISEC Lisboa)\, which will take place o
 nline on 12 March at 3:00 PM - 4:30 PM WET. The event is sponsored by VdA 
 Legal Partners\, namely ASP Advogados\, GDA Advogados and VNA Advogados \n
 \nCovid-19 caused unprecedented impacts on the aviation sector. Air traffi
 c restrictions and sanitary measures imposed by states have had a particul
 ar impact on Airlines. The recovery will depend on a wide range of variabl
 es including not only the specific context of each airline and potential S
 tate support\, but also on passengers’ demand. \n\nIn this context\, the
  Webinar will allow a debate on the major impact of the pandemic on the av
 iation industry\, reflecting on the damages it has caused and the measures
  implemented to overcome the challenges\, as well as on the possible redef
 inition of the aviation market in Lusophone Africa and the sector players'
  readiness for the long-awaited recovery. \n\nThe panel will include repre
 sentatives of the main airlines operating in the Lusophone African market:
  Cape Verde Airlines\; LAM - Mozambique Airlines\; TAAG Angola Airlines an
 d STP Airways. \n\nThe event will be held in Portuguese and broadcast onli
 ne via TEAMS MEETING.\n\nSpeakers: Antolívio Martins\, Eugénio Fernandes
 \, João Pó Jorge\, Rui Carreira\, Marília Frias\, Rui Castro e Quadros
URL:https://www.vda.pt/en/media/events/webinar-on-aviation-in-lusophone-afr
 ica-in-the-post-covid-19/23174/
DTSTART:20210312T150000
DTEND:20210312T163000
BEGIN:VALARM
ACTION:DISPLAY
TRIGGER:-PT60M
END:VALARM
END:VEVENT
END:VCALENDAR