BEGIN:VCALENDAR
VERSION:2.0
PRODID:spatie/icalendar-generator
NAME:VdA Chair in Digital Governance
X-WR-CALNAME:VdA Chair in Digital Governance
BEGIN:VEVENT
UID:event_22657@vda.pt
DTSTAMP:20260424T155627Z
SUMMARY:VdA Chair in Digital Governance
DESCRIPTION:The  Católica Global School of Law  and  Vieira de Almeida  ar
 e honored to announce the  VdA Chair in Digital Governance  hold by  Profe
 ssor Miguel Poiares Maduro . \n\nThe presentation event will take place at
  the Lisbon Campus of Universidade Católica Portuguesa and Professor Migu
 el Poiares Maduro will give a lecture about   Democracy in Times of Pandem
 ic  \, with comments by the former President of the Italian Constitutional
  Court\,  Prof. Marta Cartabia . \n\nThe event will be broadcast at Zoom. 
 To attend online\, please confirm through the   registration form  .\n\nSp
 eakers: Isabel Capeloa Gil\, João Vieira de Almeida\, Jorge Pereira da Si
 lva\, Gonçalo Matias \, Miguel Poiares Maduro\, Marta Cartabia
URL:https://www.vda.pt/en/media/events/vda-chair-in-digital-governance/2265
 7/
DTSTART:20201029T180000
DTEND:20201029T000000
BEGIN:VALARM
ACTION:DISPLAY
TRIGGER:-PT60M
END:VALARM
END:VEVENT
END:VCALENDAR