BEGIN:VCALENDAR
VERSION:2.0
PRODID:spatie/icalendar-generator
NAME: Specialised Arbitrations: PRR Contracts and Projects
X-WR-CALNAME: Specialised Arbitrations: PRR Contracts and Projects
BEGIN:VEVENT
UID:event_27676@vda.pt
DTSTAMP:20260421T122931Z
SUMMARY: Specialised Arbitrations: PRR Contracts and Projects
DESCRIPTION:VdA\, the Concórdia Association and the Observatory of Local A
 uthorities are organising the event  “Specialised Arbitration: Public Wo
 rks and PRR Projects” \, which will take place on  5 June \, from  9:30 
 a.m.  to  1:00 p.m. \, at the António de Magalhães Cardoso Auditorium\, 
 at VdA's office in Lisbon\, with online streaming. \n\nThe “Trade War”
  is causing a significant range of concerns and challenges in the manageme
 nt of both public and private construction projects. For this reason\, the
  Concórdia Centre and the Observatory of Local Authorities are bringing t
 ogether a panel of experts to address this issue. \n\nThe topic has gained
  added relevance following the publication of Law no. 43/2024 of 2 Decembe
 r\, which amended the legislation that approved special public procurement
  measures. This law provides that\, regardless of what is contractually st
 ipulated\, public works or public goods and services supply contracts fina
 nced or co-financed by European funds may be subject to arbitration in cas
 es where disputes arise that\, due to their significance\, may jeopardise 
 compliance with contractual deadlines or lead to the loss of funding. \n\n
 ⁎This event will be held in portuguese.\n\nSpeakers: António de Magalh
 ães Cardoso\, Paulo Pinheiro\, Ana Luísa Guimarães\, Bartolomeu Noronha
 \, Gonçalo Guerra Tavares\, Hugo Fonseca\, Inês Serra\, Ricardo Guimarã
 es
URL:https://www.vda.pt/en/media/events/specialised-arbitrations-prr-contrac
 ts-and-projects/27676/
DTSTART:20250605T091500
DTEND:20250605T130000
BEGIN:VALARM
ACTION:DISPLAY
TRIGGER:-PT60M
END:VALARM
END:VEVENT
END:VCALENDAR