BEGIN:VCALENDAR
VERSION:2.0
PRODID:spatie/icalendar-generator
NAME:CYBERSAT WEBINAR
X-WR-CALNAME:CYBERSAT WEBINAR
BEGIN:VEVENT
UID:event_23110@vda.pt
DTSTAMP:20260422T121921Z
SUMMARY:CYBERSAT WEBINAR
DESCRIPTION:The European Space Agency (ESA)\, Thales Alenia Space\, Vieira 
 de Almeida (VdA)\, Tekever Space and Thales\, are honoured to announce the
  online Webinar on  Cyber Security Regulations and Satellite Communication
  Systems: An Analysis of Applicability and Impact   – Report on ESA ARTE
 S CYBERSAT Study  .  \n\nThe Webinar will provide an overview of the resul
 ts of a study that was undertaken by Thales Alenia Space\, Vieira de Almei
 da\, Tekever Space and Thales on cybersecurity on satcom networks. This st
 udy was performed as part of the ARTES Future Preparation programme of the
  European Space Agency. \n\nCybersecurity is a topic of increasing importa
 nce and recent regulatory changes directly impact the space sector. The We
 binar will address the EU legal and regulatory approach to cybersecurity o
 n satcom networks\, as well as the potential impact of cybersecurity regul
 ations on satcom networks and services. \n\nThe event will be broadcasted 
 by Zoom.\n\nSpeakers: Frank Zeppenfeldt\, Paolo Conforto\, Helena Correia 
 Mendonça\, Aleksandra Nadziejko
URL:https://www.vda.pt/en/media/events/cybersat-webinar/23110/
DTSTART:20210305T140000
DTEND:20210305T150000
BEGIN:VALARM
ACTION:DISPLAY
TRIGGER:-PT60M
END:VALARM
END:VEVENT
END:VCALENDAR